BEGIN:VCALENDAR
VERSION:2.0
PRODID:-//ChamberMaster//Event Calendar 2.0//EN
METHOD:PUBLISH
X-PUBLISHED-TTL:P3D
REFRESH-INTERVAL:P3D
CALSCALE:GREGORIAN
BEGIN:VEVENT
DTSTART:20090812T160000Z
DTEND:20090816T040000Z
X-MICROSOFT-CDO-ALLDAYEVENT:FALSE
SUMMARY:''Fill that Bus'' supply drive for the Grantsville Elementary
DESCRIPTION:Wal-Mart will be sponsoring a "Fill that Bus" supply drive for the Grantsville Elementary School  in front of the Tooele Wal-Mart Supercenter beginning Wednesday 8/12 - Saturday 8/15 10:00 am - 10:00 pm. There will be a School Bus placed in front of the Wal-Mart store and our goal is to fill the bus by Saturday with school supplies to be given to the Tooele School District. We will also place a school bus in front of the Grantsville Elementary on Saturday 8/15 and try to fill that bus as well. Thanks for any support you can provide.Please forward this email to all of your employees\, family and friends.
X-ALT-DESC;FMTTYPE=text/html:<div><div><p style="text-align: center"><span style="font-size: large"><span style="color: navy\; font-family: 'Baskerville Old Face'\,'serif'">Wal-Mart will be sponsoring a &quot\;Fill that Bus&quot\; supply drive for the Grantsville Elementary School&nbsp\; in front of the Tooele Wal-Mart Supercenter beginning </span></span></p><p style="text-align: center"><span style="color: #ff0000"><span style="font-size: large"><span style="font-family: 'Baskerville Old Face'\,'serif'">Wednesday 8/12 - Saturday 8/15&nbsp\;</span></span></span></p><p style="text-align: center"><span style="color: #ff0000"><span style="font-size: large"><span style="font-family: 'Baskerville Old Face'\,'serif'">10:00 am - 10:00 pm. </span></span></span></p><p style="text-align: center"><span style="font-size: large"><span style="color: navy\; font-family: 'Baskerville Old Face'\,'serif'">There will be a School Bus placed in front of the Wal-Mart store and our goal is to fill the bus by Saturday with school supplies to be given to the Tooele School District. </span></span></p><p style="text-align: center"><span style="font-size: large"><span style="color: navy\; font-family: 'Baskerville Old Face'\,'serif'">We will also place a school bus in front of the </span></span><span style="font-size: large"><span style="color: navy\; font-family: 'Baskerville Old Face'\,'serif'">Grantsville Elementary on <span style="color: #ff0000">Saturday 8/15</span> and try to fill that bus as well. Thanks for any support you can provide.</span></span></p><p style="text-align: center"><span style="font-size: large"><span style="color: navy\; font-family: 'Baskerville Old Face'\,'serif'">Please forward this email to all of your employees\, family and friends.</span></span></p></div></div>
LOCATION:
UID:e.125.2565
SEQUENCE:3
DTSTAMP:20260423T200245Z
URL:https://business.tooelechamber.com/events/details/fill-that-bus-supply-drive-for-the-grantsville-elementary-08-12-2009-2565
END:VEVENT

END:VCALENDAR
