BEGIN:VCALENDAR
VERSION:2.0
PRODID:-//ChamberMaster//Event Calendar 2.0//EN
METHOD:PUBLISH
X-PUBLISHED-TTL:P3D
REFRESH-INTERVAL:P3D
CALSCALE:GREGORIAN
BEGIN:VEVENT
DTSTART:20090313T000000Z
DTEND:20090313T020000Z
X-MICROSOFT-CDO-ALLDAYEVENT:FALSE
SUMMARY:Financial Education IDA classes
DESCRIPTION:FREE MONEY: Individual Development Account Financial Classes \nFor those who are income eligible (see guidelines at uidan.org) the Individual Development Account (IDA) is a great way to save money.  Deposits are matched 3-to-1 up to $1\,500.  The program is for low to moderate income individuals. Participants must attend the 4 financial education classes. Savings can be used to purchase a home\, go to college or vocational school or to start a home business.
X-ALT-DESC;FMTTYPE=text/html:FREE MONEY: Individual Development Account Financial Classes \nFor those who are income eligible (see guidelines at uidan.org) the Individual Development Account (IDA) is a great way to save money.  Deposits are matched 3-to-1 up to $1\,500.  The program is for low to moderate income individuals. Participants must attend the 4 financial education classes. Savings can be used to purchase a home\, go to college or vocational school or to start a home business. 
LOCATION:151 N. Main\, Tooele
UID:e.125.540
SEQUENCE:3
DTSTAMP:20260424T053255Z
URL:https://business.tooelechamber.com/events/details/financial-education-ida-classes-03-12-2009-540
END:VEVENT

END:VCALENDAR
