BEGIN:VCALENDAR
VERSION:2.0
PRODID:-//ChamberMaster//Event Calendar 2.0//EN
METHOD:PUBLISH
X-PUBLISHED-TTL:P3D
REFRESH-INTERVAL:P3D
CALSCALE:GREGORIAN
BEGIN:VEVENT
DTSTART:20101006T200000Z
DTEND:20101006T210000Z
X-MICROSOFT-CDO-ALLDAYEVENT:FALSE
SUMMARY:Fire Safety
DESCRIPTION:Fire Safety with Tooele City Fire Department\n\n	Wednesday\, October 6th @ 2pm\n\n	Location: Tooele City Library\n\n	128 West Vine Street\, Tooele
X-ALT-DESC;FMTTYPE=text/html:<p style="text-align: center">\n	<span style="font-size: 24px">Fire Safety with Tooele City Fire Department<br />\n	Wednesday\, October 6th @ 2pm<br />\n	Location: Tooele City Library<br />\n	128 West Vine Street\, Tooele </span></p>\n
LOCATION:
UID:e.125.3249
SEQUENCE:3
DTSTAMP:20260422T215811Z
URL:https://business.tooelechamber.com/events/details/fire-safety-10-06-2010-3249
END:VEVENT

END:VCALENDAR
