BEGIN:VCALENDAR
VERSION:2.0
PRODID:-//ChamberMaster//Event Calendar 2.0//EN
METHOD:PUBLISH
X-PUBLISHED-TTL:P3D
REFRESH-INTERVAL:P3D
CALSCALE:GREGORIAN
BEGIN:VEVENT
DTSTART:20120925T000000Z
DTEND:20120925T020000Z
X-MICROSOFT-CDO-ALLDAYEVENT:FALSE
SUMMARY:Free Family Dinner
DESCRIPTION:FREE FAMILY DINNER\n\n\n\n@ TOOELE CITY PARK.\n\n (55 NORTH 200 WEST\, TOOELE)\n\n\n\nMONDAY\, SEPTEMBER 24TH\, 2012 @ 6:00PM\n\n\n\n* ENJOY A NIGHT WITH DINNER AND ACTIVITIES AND HELP YOUR FAMILY BENEFIT FROM EATING DINNER TOGETHER!\n\n* FAMILIES WILL BE GIVING A COUPON (ONLY $5 FOR THE ENTIRE FAMILY) TO SWIM THAT EVENING AT THE PRATT AQUATIC CENTER.\n\n\n\nFOR MORE INFORMATION CONTACT: TOOELE CITY PARK AND RECREATION AT (435)843-2142 OR TERRAS@TOOELECITY.ORG
X-ALT-DESC;FMTTYPE=text/html:<strong><span style="font-size: 18px"><span style="color: #008080"><u>FREE FAMILY DINNER</u></span><br />\n<br />\n@ TOOELE CITY PARK.<br />\n&nbsp\;(55 NORTH 200 WEST\, TOOELE)<br />\n<br />\nMONDAY\, SEPTEMBER 24TH\, 2012 @ 6:00PM<br />\n<br />\n* ENJOY A NIGHT WITH DINNER AND ACTIVITIES AND HELP YOUR FAMILY BENEFIT FROM EATING DINNER TOGETHER!</span><br />\n<span style="font-size: 18px">* FAMILIES WILL BE GIVING A COUPON (ONLY $5 FOR THE ENTIRE FAMILY) TO SWIM THAT EVENING AT THE PRATT AQUATIC CENTER.</span><br />\n<br />\n<span style="font-size: 18px">FOR MORE INFORMATION CONTACT: TOOELE CITY PARK AND RECREATION AT (435)843-2142 OR TERRAS@TOOELECITY.ORG</span></strong><br />\n
LOCATION:
UID:e.125.4929
SEQUENCE:3
DTSTAMP:20260421T092005Z
URL:https://business.tooelechamber.com/events/details/free-family-dinner-09-24-2012-4929
END:VEVENT

END:VCALENDAR
