BEGIN:VCALENDAR
VERSION:2.0
PRODID:-//ChamberMaster//Event Calendar 2.0//EN
METHOD:PUBLISH
X-PUBLISHED-TTL:P3D
REFRESH-INTERVAL:P3D
CALSCALE:GREGORIAN
BEGIN:VEVENT
DTSTART:20131102T190000Z
DTEND:20131102T230000Z
X-MICROSOFT-CDO-ALLDAYEVENT:FALSE
SUMMARY:Free Medical Clinic
DESCRIPTION:Partnering with Utah Partners for health to bring a free medical clinic to the Tooele area. The Clinic is open to the uninsured\, the underinsured or those who just need to see a doctor.
X-ALT-DESC;FMTTYPE=text/html:Partnering with Utah Partners for health to bring a free medical clinic to the Tooele area. The Clinic is open to the uninsured\, the underinsured or those who just need to see a doctor.
LOCATION:New Life Christian Fellowship Church 411 East Utah Ave.\, Tooele
UID:e.125.5053
SEQUENCE:3
DTSTAMP:20260420T080132Z
URL:https://business.tooelechamber.com/events/details/free-medical-clinic-11-02-2013-5053
END:VEVENT

END:VCALENDAR
