BEGIN:VCALENDAR
VERSION:2.0
PRODID:-//ChamberMaster//Event Calendar 2.0//EN
METHOD:PUBLISH
X-PUBLISHED-TTL:P3D
REFRESH-INTERVAL:P3D
CALSCALE:GREGORIAN
BEGIN:VEVENT
DTSTART:20100602T220000Z
DTEND:20100603T000000Z
X-MICROSOFT-CDO-ALLDAYEVENT:FALSE
SUMMARY:Free Training
DESCRIPTION:How to effectively include people with hearing\, cognitive\, mobility\, and visual disabilities in all faith communitiesWednesday\, June 2\, 2010 @ 4-6pmLocation: Utah State University 1021 West Vine Street\, Tooele Room 159This free training is tailored for faith leader and families.Topics include:Creating a more inclusive and welcoming atmosphere Appropriate and effective communication Providing accomodations and meeting needs Access for people who are blind and hard of hearing Overview of various assistive technology devices Reaching out to people with disabilities Connecting with resources and supportsExperienced trainers are the center from the Center for Persons with Disabilities at Utah State University\, Human Capabilities\, and the Utah Division of Services to the Deaf and Hard of Hearing. Please RSVP to Connie Panter at connie.panter@usu.edu or 435-797-1993For more information\, please call Marilyn Hammond at 435-797-3811 or marilyn.hammond@usu.edu or Sachin Pavithran at 435-797-6572 or sachin.pavithran@usu.edu or all three at 800-524-5152
X-ALT-DESC;FMTTYPE=text/html:<div style="text-align: center"><strong><u><span style="font-size: medium">How to effectively include people with hearing\, cognitive\, mobility\, and visual disabilities in all faith communities</span></u></strong></div><div><span style="font-size: small">Wednesday\, June 2\, 2010 @ 4-6pm</span></div><div><span style="font-size: small">Location: Utah State University </span></div><div><span style="font-size: small">1021 West Vine Street\, Tooele Room 159</span></div><div><span style="font-size: small">This free training is tailored for faith leader and families.</span></div><div><span style="font-size: small">Topics include:</span></div><ul><li><span style="font-size: small">Creating a more inclusive and welcoming atmosphere </span></li><li><span style="font-size: small">Appropriate and effective communication </span></li><li><span style="font-size: small">Providing accomodations and meeting needs </span></li><li><span style="font-size: small">Access for people who are blind and hard of hearing </span></li><li><span style="font-size: small">Overview of various assistive technology devices </span></li><li><span style="font-size: small">Reaching out to people with disabilities </span></li><li><span style="font-size: small">Connecting with resources and supports</span></li></ul><div><span style="font-size: small">Experienced trainers are the center from the Center for Persons with Disabilities at Utah State University\, Human Capabilities\, and the Utah&nbsp\;Division of Services to the Deaf and Hard of Hearing.</span></div><div>&nbsp\;</div><div><span style="font-size: small">Please RSVP to Connie Panter at </span><a href="mailto:connie.panter@usu.edu"><span style="font-size: small">connie.panter@usu.edu</span></a><span style="font-size: small"> or 435-797-1993</span></div><div><span style="font-size: small">For more information\, please call Marilyn Hammond at 435-797-3811 or </span><a href="mailto:marilyn.hammond@usu.edu"><span style="font-size: small">marilyn.hammond@usu.edu</span></a><span style="font-size: small"> or Sachin Pavithran at 435-797-6572 or </span><a href="mailto:sachin.pavithran@usu.edu"><span style="font-size: small">sachin.pavithran@usu.edu</span></a><span style="font-size: small"> or all three at 800-524-5152</span></div>
LOCATION:
UID:e.125.3177
SEQUENCE:3
DTSTAMP:20260423T062127Z
URL:https://business.tooelechamber.com/events/details/free-training-06-02-2010-3177
END:VEVENT

END:VCALENDAR
