BEGIN:VCALENDAR
VERSION:2.0
PRODID:-//ChamberMaster//Event Calendar 2.0//EN
METHOD:PUBLISH
X-PUBLISHED-TTL:P3D
REFRESH-INTERVAL:P3D
CALSCALE:GREGORIAN
BEGIN:VEVENT
DTSTART:20140712T043000Z
DTEND:20140712T053000Z
X-MICROSOFT-CDO-ALLDAYEVENT:FALSE
SUMMARY:Friday At the Park: Teddy Bear Picnic
DESCRIPTION:For Families of all ages. All youth must be accompanied by an adult. No Preregistration required! More info can be found at www.tooelecity.org. or call (435) 843-2142 or email terras@tooelecity.org
X-ALT-DESC;FMTTYPE=text/html:For Families of all ages. All youth must be accompanied by an adult. No Preregistration required! More info can be found at www.tooelecity.org. or call (435) 843-2142 or email terras@tooelecity.org
LOCATION:England Acres Park 400 E\, Tooele
UID:e.125.5347
SEQUENCE:3
DTSTAMP:20260419T181753Z
URL:https://business.tooelechamber.com/events/details/friday-at-the-park-teddy-bear-picnic-07-11-2014-5347
END:VEVENT

END:VCALENDAR
