BEGIN:VCALENDAR
VERSION:2.0
PRODID:-//ChamberMaster//Event Calendar 2.0//EN
METHOD:PUBLISH
X-PUBLISHED-TTL:P3D
REFRESH-INTERVAL:P3D
CALSCALE:GREGORIAN
BEGIN:VEVENT
DTSTART:20130727T010000Z
DTEND:20130727T030000Z
X-MICROSOFT-CDO-ALLDAYEVENT:FALSE
SUMMARY:Fridays on Vine
DESCRIPTION:Fridays on Vine.\n\nJackson Cash.
X-ALT-DESC;FMTTYPE=text/html:<span style="font-size: 22px">Fridays on Vine.<br />\nJackson Cash.</span>
LOCATION:
UID:e.125.5036
SEQUENCE:3
DTSTAMP:20260420T150755Z
URL:https://business.tooelechamber.com/events/details/fridays-on-vine-07-26-2013-5036
END:VEVENT

END:VCALENDAR
