BEGIN:VCALENDAR
VERSION:2.0
PRODID:-//ChamberMaster//Event Calendar 2.0//EN
METHOD:PUBLISH
X-PUBLISHED-TTL:P3D
REFRESH-INTERVAL:P3D
CALSCALE:GREGORIAN
BEGIN:VEVENT
DTSTART:20130803T010000Z
DTEND:20130803T030000Z
X-MICROSOFT-CDO-ALLDAYEVENT:FALSE
SUMMARY:Fridays On Vine
DESCRIPTION:Fridays on Vine\n\nBent Fender
X-ALT-DESC;FMTTYPE=text/html:<span style="font-size: 20px">Fridays on Vine<br />\nBent Fender</span>
LOCATION:
UID:e.125.5037
SEQUENCE:3
DTSTAMP:20260420T132555Z
URL:https://business.tooelechamber.com/events/details/fridays-on-vine-08-02-2013-5037
END:VEVENT

END:VCALENDAR
