BEGIN:VCALENDAR
VERSION:2.0
PRODID:-//ChamberMaster//Event Calendar 2.0//EN
METHOD:PUBLISH
X-PUBLISHED-TTL:P3D
REFRESH-INTERVAL:P3D
CALSCALE:GREGORIAN
BEGIN:VEVENT
DTSTART:20140712T010000Z
DTEND:20140712T055500Z
X-MICROSOFT-CDO-ALLDAYEVENT:FALSE
SUMMARY:Fridays on Vine: Bent Fender
DESCRIPTION:Bent Fender's Music is a combination of rock \, folk \, blues and county whit a common thread of roots running through it. Set lists include songs by : Eric Clapton\, CCR\, BB King\, The Beatles\, Vince Gill\, Crosby Stills\, Nash and many more!
X-ALT-DESC;FMTTYPE=text/html:Bent Fender&#39\;s Music is a combination of rock \, folk \, blues and county whit a common thread of roots running through it. Set lists include songs by : Eric Clapton\, CCR\, BB King\, The Beatles\, Vince Gill\, Crosby Stills\, Nash and many more!
LOCATION:Swimming Pool Park 55 North 200 West\, Tooele
UID:e.125.5352
SEQUENCE:3
DTSTAMP:20260419T162741Z
URL:https://business.tooelechamber.com/events/details/fridays-on-vine-bent-fender-07-11-2014-5352
END:VEVENT

END:VCALENDAR
