BEGIN:VCALENDAR
VERSION:2.0
PRODID:-//ChamberMaster//Event Calendar 2.0//EN
METHOD:PUBLISH
X-PUBLISHED-TTL:P3D
REFRESH-INTERVAL:P3D
CALSCALE:GREGORIAN
BEGIN:VEVENT
DTSTART:20140719T010000Z
DTEND:20140719T055500Z
X-MICROSOFT-CDO-ALLDAYEVENT:FALSE
SUMMARY:Fridays on Vine: We are the Strike
DESCRIPTION:We are the Strike is known for their larger-than-life performances and musical expertise. They have preformed on the same ticket as Kelly Clarkson\, Carly Rae Jepson\, Jason Scheff of Chicago\, the Piano Guys and the Mason Jennings. They have cultivated a rare musical genre of "throwback jazz meets edgy pop meets funky blues."
X-ALT-DESC;FMTTYPE=text/html:We are the Strike is known for their larger-than-life performances and musical expertise. They have preformed on the same ticket as Kelly Clarkson\, Carly Rae Jepson\, Jason Scheff&nbsp\;of Chicago\, the Piano Guys and the Mason Jennings. They have cultivated a rare musical genre of &quot\;throwback jazz meets edgy pop meets funky blues.&quot\;
LOCATION:Swimming Pool Park 55 North 200 West\, Tooele
UID:e.125.5351
SEQUENCE:3
DTSTAMP:20260419T181825Z
URL:https://business.tooelechamber.com/events/details/fridays-on-vine-we-are-the-strike-07-18-2014-5351
END:VEVENT

END:VCALENDAR
