BEGIN:VCALENDAR
VERSION:2.0
PRODID:-//ChamberMaster//Event Calendar 2.0//EN
METHOD:PUBLISH
X-PUBLISHED-TTL:P3D
REFRESH-INTERVAL:P3D
CALSCALE:GREGORIAN
BEGIN:VEVENT
DTSTART;VALUE=DATE:20140308
DTEND;VALUE=DATE:20140309
TRANSP:TRANSPARENT
X-MICROSOFT-CDO-ALLDAYEVENT:TRUE
SUMMARY:Fruit Tree\, Grape and Berry Pruning Demonstrations
DESCRIPTION:Fruit Tree\, Grape and Berry Pruning Demonstrations - Saturday\, March 8th! Learn "hands on" how to prune apple\, cherry\, peach\, pear\, grapes\, raspberry and blackberries.  Session 1 will be held at the Cooper home at 984 Ironwood Road\, Erda\, from 10 AM to Noon.  Younger orchard (under 10 yrs.)\, grape vineyard\, berry patch sessions.  Session 2 will be held at the Bitner home at 140 Durfee Street in Grantsville from 1 PM to 3 PM.  Mature apple orchard (25+ years\, blackberry pruning).  Sponsored by USU Extension and the TC Master Gardeners. Dress Warm and come out and have a great time!  For more information call Jay Cooper at 435-830-1447 or jay@dirtfarmerjay.com.
X-ALT-DESC;FMTTYPE=text/html:<strong><span style="font-family:arial\,sans-serif\;"><span style="font-size:12.0pt\;">Fruit Tree\, Grape and Berry Pruning Demonstrations</span></span></strong><span style="font-family:arial\,sans-serif\;"><span style="font-size:12.0pt\;">&nbsp\;- Saturday\, March 8th! Learn &quot\;hands on&quot\; how to prune apple\, cherry\, peach\, pear\, grapes\, raspberry and blackberries. &nbsp\;Session 1 will be held at the Cooper home at 984 Ironwood Road\, Erda\, from 10 AM to Noon. &nbsp\;Younger orchard (under 10 yrs.)\, grape vineyard\, berry patch sessions. &nbsp\;Session 2 will be held at the Bitner home at 140 Durfee Street in Grantsville from 1 PM to 3 PM. &nbsp\;Mature apple orchard (25+ years\, blackberry pruning). &nbsp\;Sponsored by USU Extension and the TC Master Gardeners. Dress Warm and come out and have a great time! &nbsp\;For more information call Jay Cooper at 435-830-1447 or&nbsp\;</span></span><a href="mailto:jay@dirtfarmerjay.com" target="_blank"><span style="color:#1155cc\;"><span style="font-family:arial\,sans-serif\;"><span style="font-size:12.0pt\;">jay@dirtfarmerjay.com</span></span></span></a><span style="font-family:arial\,sans-serif\;"><span style="font-size:12.0pt\;">.</span></span><br />\n
LOCATION:
UID:e.125.5070
SEQUENCE:3
DTSTAMP:20260420T000504Z
URL:https://business.tooelechamber.com/events/details/fruit-tree-grape-and-berry-pruning-demonstrations-03-08-2014-5070
END:VEVENT

END:VCALENDAR
