BEGIN:VCALENDAR
VERSION:2.0
PRODID:-//ChamberMaster//Event Calendar 2.0//EN
METHOD:PUBLISH
X-PUBLISHED-TTL:P3D
REFRESH-INTERVAL:P3D
CALSCALE:GREGORIAN
BEGIN:VEVENT
DTSTART;VALUE=DATE:20110616
DTEND;VALUE=DATE:20110617
TRANSP:TRANSPARENT
X-MICROSOFT-CDO-ALLDAYEVENT:TRUE
SUMMARY:Fun the Mill
DESCRIPTION:Benson Grist Mill Fun at The Mill\n\n	Thursday\, June 16\, 2011
X-ALT-DESC;FMTTYPE=text/html:<p style="text-align: center">\n	<span style="font-size: 20px">Benson Grist Mill Fun at The Mill<br />\n	Thursday\, June 16\, 2011</span></p>\n
LOCATION:
UID:e.125.3535
SEQUENCE:3
DTSTAMP:20260422T091108Z
URL:https://business.tooelechamber.com/events/details/fun-the-mill-06-16-2011-3535
END:VEVENT

END:VCALENDAR
