BEGIN:VCALENDAR
VERSION:2.0
PRODID:-//ChamberMaster//Event Calendar 2.0//EN
METHOD:PUBLISH
X-PUBLISHED-TTL:P3D
REFRESH-INTERVAL:P3D
CALSCALE:GREGORIAN
BEGIN:VEVENT
DTSTART;VALUE=DATE:20111025
DTEND;VALUE=DATE:20111105
TRANSP:TRANSPARENT
X-MICROSOFT-CDO-ALLDAYEVENT:TRUE
SUMMARY:General Election Early Voting
DESCRIPTION:435-843-3140\n\n	www.co.tooele.ut.us/clerk.htm
X-ALT-DESC;FMTTYPE=text/html:<p class="MsoNormal" style="text-align: center\; margin: 0in 0in 0pt">\n	<span style="font-size: 20px"><font color="#000000"><font face="Times New Roman">435-843-3140</font></font></span><span style="font-size: 14pt"><font color="#000000"><font face="Times New Roman"><o:p></o:p></font></font></span></p>\n<p class="MsoNormal" style="text-align: center\; margin: 0in 0in 0pt">\n	<span style="font-size: 20px"><a href="http://www.co.tooele.ut.us/clerk.htm"><font color="#0000ff" face="Times New Roman">www.co.tooele.ut.us/clerk.htm</font></a></span><span style="font-size: 14pt"><o:p></o:p></span></p>\n<p class="MsoNormal" style="text-align: center\; margin: 0in 0in 0pt">\n	<span style="font-size: 20px"><o:p><font color="#000000" face="Times New Roman">&nbsp\;</font></o:p></span><span style="font-size: 14pt"><o:p><font color="#000000" face="Times New Roman"><span _fck_bookmark="1" style="display: none">&nbsp\;</span></font></o:p></span></p>\n
LOCATION:
UID:e.125.3573
SEQUENCE:3
DTSTAMP:20260422T013033Z
URL:https://business.tooelechamber.com/events/details/general-election-early-voting-10-25-2011-3573
END:VEVENT

END:VCALENDAR
