BEGIN:VCALENDAR
VERSION:2.0
PRODID:-//ChamberMaster//Event Calendar 2.0//EN
METHOD:PUBLISH
X-PUBLISHED-TTL:P3D
REFRESH-INTERVAL:P3D
CALSCALE:GREGORIAN
BEGIN:VEVENT
DTSTART:20140518T003000Z
DTEND:20140518T020000Z
X-MICROSOFT-CDO-ALLDAYEVENT:FALSE
SUMMARY:Girls Book Club
DESCRIPTION:Open to the public.\n\nFor girls (8-11) and  female adult in their lives.\n*Will by discussing "The Mysterious Benedict Society" by Trenton Lee Stewart
X-ALT-DESC;FMTTYPE=text/html:Open to the public.\n\nFor girls (8-11) and  female adult in their lives.\n*Will by discussing "The Mysterious Benedict Society" by Trenton Lee Stewart
LOCATION:Medium Conference Room
UID:e.125.5513
SEQUENCE:3
DTSTAMP:20260419T203149Z
URL:https://business.tooelechamber.com/events/details/girls-book-club-05-17-2014-5513
END:VEVENT

END:VCALENDAR
