BEGIN:VCALENDAR
VERSION:2.0
PRODID:-//ChamberMaster//Event Calendar 2.0//EN
METHOD:PUBLISH
X-PUBLISHED-TTL:P3D
REFRESH-INTERVAL:P3D
CALSCALE:GREGORIAN
BEGIN:VEVENT
DTSTART;VALUE=DATE:20090918
DTEND;VALUE=DATE:20090921
TRANSP:TRANSPARENT
X-MICROSOFT-CDO-ALLDAYEVENT:TRUE
SUMMARY:Gran-Am Rolex Sports Car Series
DESCRIPTION:The fourth annual visit to Miller Motorsports Park by the Grand-Am Rolex Sports Car Series presented by Crown Royal Cask No. 16 brings a major change. The race distance has been shortened from 1000 kilometers to a two-hour-45-minute sprint race\, which will bring an entirely new set of strategies into play. Teams will have to race hard from beginning to end\, and work in "sprint" mode rather than "endurance" mode. As exciting as the longer races were\, this year's event should be a nail-biter from start to finish!
X-ALT-DESC;FMTTYPE=text/html:The fourth annual visit to Miller Motorsports Park by the Grand-Am Rolex Sports Car Series presented by Crown Royal Cask No. 16 brings a major change. The race distance has been shortened from 1000 kilometers to a two-hour-45-minute sprint race\, which will bring an entirely new set of strategies into play. Teams will have to race hard from beginning to end\, and work in "sprint" mode rather than "endurance" mode. As exciting as the longer races were\, this year's event should be a nail-biter from start to finish!\n\n
LOCATION:Miller Motorsports Park
UID:e.125.495
SEQUENCE:3
DTSTAMP:20260423T182246Z
URL:https://business.tooelechamber.com/events/details/gran-am-rolex-sports-car-series-09-18-2009-495
END:VEVENT

END:VCALENDAR
