BEGIN:VCALENDAR
VERSION:2.0
PRODID:-//ChamberMaster//Event Calendar 2.0//EN
METHOD:PUBLISH
X-PUBLISHED-TTL:P3D
REFRESH-INTERVAL:P3D
CALSCALE:GREGORIAN
BEGIN:VEVENT
DTSTART;VALUE=DATE:20110317
DTEND;VALUE=DATE:20110318
TRANSP:TRANSPARENT
X-MICROSOFT-CDO-ALLDAYEVENT:TRUE
SUMMARY:Grantsville Children's Sociable
DESCRIPTION:Grantsville Children Sociable\n\nThursday\, March 17\, 2011\n\nContact: Karen Parks 435-840-0869
X-ALT-DESC;FMTTYPE=text/html:Grantsville Children Sociable<br />\nThursday\, March 17\, 2011<br />\nContact: Karen Parks 435-840-0869<br />\n
LOCATION:
UID:e.125.3507
SEQUENCE:3
DTSTAMP:20260422T140142Z
URL:https://business.tooelechamber.com/events/details/grantsville-children-s-sociable-03-17-2011-3507
END:VEVENT

END:VCALENDAR
