BEGIN:VCALENDAR
VERSION:2.0
PRODID:-//ChamberMaster//Event Calendar 2.0//EN
METHOD:PUBLISH
X-PUBLISHED-TTL:P3D
REFRESH-INTERVAL:P3D
CALSCALE:GREGORIAN
BEGIN:VEVENT
DTSTART;VALUE=DATE:20100318
DTEND;VALUE=DATE:20100319
TRANSP:TRANSPARENT
X-MICROSOFT-CDO-ALLDAYEVENT:TRUE
SUMMARY:Grantsville Childrens Sociable
DESCRIPTION:Grantsville Children's SociableMarch 18th @ 7:00pmAny Questions Please Contact Jan Baird 435-884-3795
X-ALT-DESC;FMTTYPE=text/html:<div><p class="MsoNormal" style="text-align: center\; margin: 0in 0in 0pt"><u><span style="font-size: large"><font face="Times New Roman">Grantsville Children&rsquo\;s Sociable</font></span></u><span style="font-size: 14pt"><font face="Times New Roman"><o:p></o:p></font></span></p><p class="MsoNormal" style="text-align: center\; margin: 0in 0in 0pt"><span style="font-size: large"><font face="Times New Roman">March 18<sup>th</sup> @ 7:00pm</font></span></p><p class="MsoNormal" style="text-align: center\; margin: 0in 0in 0pt"><span style="font-size: large"><font face="Times New Roman">Any Questions Please Contact </font></span></p><p class="MsoNormal" style="text-align: center\; margin: 0in 0in 0pt"><span style="font-size: large"><font face="Times New Roman">Jan Baird 435-884-3795<span style="mso-spacerun: yes">&nbsp\;&nbsp\;</span></font></span></p></div>
LOCATION:
UID:e.125.2595
SEQUENCE:3
DTSTAMP:20260423T093414Z
URL:https://business.tooelechamber.com/events/details/grantsville-childrens-sociable-03-18-2010-2595
END:VEVENT

END:VCALENDAR
