BEGIN:VCALENDAR
VERSION:2.0
PRODID:-//ChamberMaster//Event Calendar 2.0//EN
METHOD:PUBLISH
X-PUBLISHED-TTL:P3D
REFRESH-INTERVAL:P3D
CALSCALE:GREGORIAN
BEGIN:VEVENT
DTSTART;VALUE=DATE:20090415
DTEND;VALUE=DATE:20090416
TRANSP:TRANSPARENT
X-MICROSOFT-CDO-ALLDAYEVENT:TRUE
SUMMARY:Grantsville City Council Meeting
DESCRIPTION:Grantsville City Council Meeting429 East Main\, Tooele435-884-3411
X-ALT-DESC;FMTTYPE=text/html:<div><div align="center"><font size="5">Grantsville&nbsp\;City Council Meeting</font></div><div align="center"><font size="5">429&nbsp\;East Main\, Tooele</font></div><div align="center"><font size="5">435-884-3411</font></div></div>
LOCATION:
UID:e.125.1247
SEQUENCE:3
DTSTAMP:20260424T023457Z
URL:https://business.tooelechamber.com/events/details/grantsville-city-council-meeting-04-15-2009-1247
END:VEVENT

END:VCALENDAR
