BEGIN:VCALENDAR
VERSION:2.0
PRODID:-//ChamberMaster//Event Calendar 2.0//EN
METHOD:PUBLISH
X-PUBLISHED-TTL:P3D
REFRESH-INTERVAL:P3D
CALSCALE:GREGORIAN
BEGIN:VEVENT
DTSTART;VALUE=DATE:20090704
DTEND;VALUE=DATE:20090705
TRANSP:TRANSPARENT
X-MICROSOFT-CDO-ALLDAYEVENT:TRUE
SUMMARY:Grantsville City Parade & Activities
DESCRIPTION:Grantsville City Parade & Activitiesat the park. 435-843-3411
X-ALT-DESC;FMTTYPE=text/html:<div><font face="Frutiger-LightCn" size="1"><font face="Frutiger-LightCn" size="1"><p align="center"><font size="4">Grantsville City Parade &amp\; Activities</font></p><p align="center"><font size="4">at the park. 435-843-3411</font></p></font></font></div>
LOCATION:
UID:e.125.1008
SEQUENCE:3
DTSTAMP:20260423T215245Z
URL:https://business.tooelechamber.com/events/details/grantsville-city-parade-activities-07-04-2009-1008
END:VEVENT

END:VCALENDAR
