BEGIN:VCALENDAR
VERSION:2.0
PRODID:-//ChamberMaster//Event Calendar 2.0//EN
METHOD:PUBLISH
X-PUBLISHED-TTL:P3D
REFRESH-INTERVAL:P3D
CALSCALE:GREGORIAN
BEGIN:VEVENT
DTSTART:20091128T220000Z
DTEND:20091128T230000Z
X-MICROSOFT-CDO-ALLDAYEVENT:FALSE
SUMMARY:Grantsville City Santa Parade
DESCRIPTION:Grantsville City Santa ParadeContact: 435-884-3411
X-ALT-DESC;FMTTYPE=text/html:<div><font face="Frutiger-LightCn" size="1"><font face="Frutiger-LightCn" size="1"><p align="center"><font size="4">Grantsville City Santa Parade</font></p><p align="center"><font size="4">Contact: 435-884-3411</font></p></font></font></div>
LOCATION:
UID:e.125.1233
SEQUENCE:3
DTSTAMP:20260423T150858Z
URL:https://business.tooelechamber.com/events/details/grantsville-city-santa-parade-11-28-2009-1233
END:VEVENT

END:VCALENDAR
