BEGIN:VCALENDAR
VERSION:2.0
PRODID:-//ChamberMaster//Event Calendar 2.0//EN
METHOD:PUBLISH
X-PUBLISHED-TTL:P3D
REFRESH-INTERVAL:P3D
CALSCALE:GREGORIAN
BEGIN:VEVENT
DTSTART:20110716T010000Z
DTEND:20110716T150000Z
X-MICROSOFT-CDO-ALLDAYEVENT:FALSE
SUMMARY:Grantsville Days Rodeo
DESCRIPTION:Grantsville Rodeo\n\nGrantsville UT\n\nJuly 15th 7:00 Pm-Performance / 6:30pm Mutton Busting\n\nJuly 16th 7:00 Pm- Performance / 6:30 pm Mutton Busting\n\nJuly 16th 9:00 Am   SLACK\n\nStock contractor- 7 C Buckers Ranch/Rodeo\n\nLocal Secretary: TBA\n\nEO- July 5th\, 3:00 PM- 10:00 PM\n\nCB- July 6th\, 4:00 PM- 10:00 PM\n\nCentral Entry # - 208/226-5120\n\nFaxed Entry # - 208/226-5400\n\nEmail Entry   centralentry@hotmail.com\n\nEnter once Team roping\n\n18/40 No added money. Entry Fee $67.00\n\nAdded Money- All events $250.00. Team Roping $250.00 each end.\n\nEntry fee: BB\, SB\, $67.00. Bulls\, $89.00. CR\, SW\, BK\, TR\, $67.00. BA\, $69.00\n\n\n\nRanch Bronc Riding- call Wes Clegg 435-496-3129\n\nMutton Busting- call Mike Volberg 435-840-1854
X-ALT-DESC;FMTTYPE=text/html:<span class="Apple-style-span" style="widows: 2\; text-transform: none\; text-indent: 0px\; border-collapse: separate\; font: medium 'times new roman'\; white-space: normal\; orphans: 2\; letter-spacing: normal\; color: rgb(0\,0\,0)\; word-spacing: 0px\; -webkit-border-horizontal-spacing: 0px\; -webkit-border-vertical-spacing: 0px\; -webkit-text-decorations-in-effect: none\; -webkit-text-size-adjust: auto\; -webkit-text-stroke-width: 0px"><span class="Apple-style-span" style="text-align: left\; line-height: 15px\; border-collapse: collapse\; font-family: 'lucida grande'\, tahoma\, verdana\, arial\, sans-serif\; color: rgb(51\,51\,51)\; font-size: 11px">Grantsville Rodeo<br />\nGrantsville UT<br />\nJuly 15th 7:00 Pm-Performance / 6:30pm Mutton Busting<br />\nJuly 16th 7:00 Pm- Performance / 6:30 pm Mutton Busting<br />\nJuly 16th 9:00 Am &ndash\; SLACK<br />\nStock contractor- 7 C Buckers Ranch/Rodeo<br />\nLocal Secretary: TBA<br />\nEO- July 5th\, 3:00 PM- 10:00 PM<br />\nCB- July 6th\, 4:00 PM- 10:00 PM<br />\nCentral Entry # - 208/226-5120<br />\nFaxed Entry # - 208/226-5400<br />\nEmail Entry &ndash\; centralentry@hotmail.com<br />\nEnter once Team roping<br />\n18/40 No added money. Entry Fee $67.00<br />\nAdded Money- All events $250.00. Team Roping $250.00 each end.<br />\nEntry fee: BB\, SB\, $67.00. Bulls\, $89.00. CR\, SW\, BK\, TR\, $67.00. BA\, $69.00<br />\n<br />\nRanch Bronc Riding- call Wes Clegg 435-496-3129<br />\nMutton Busting- call Mike Volberg 435-840-1854</span></span><br />\n
LOCATION:Grantsville Rodeo Grounds
UID:e.125.3730
SEQUENCE:3
DTSTAMP:20260422T081844Z
URL:https://business.tooelechamber.com/events/details/grantsville-days-rodeo-07-15-2011-3730
END:VEVENT

END:VCALENDAR
