BEGIN:VCALENDAR
VERSION:2.0
PRODID:-//ChamberMaster//Event Calendar 2.0//EN
METHOD:PUBLISH
X-PUBLISHED-TTL:P3D
REFRESH-INTERVAL:P3D
CALSCALE:GREGORIAN
BEGIN:VEVENT
DTSTART;VALUE=DATE:20110525
DTEND;VALUE=DATE:20110526
TRANSP:TRANSPARENT
X-MICROSOFT-CDO-ALLDAYEVENT:TRUE
SUMMARY:Grantsville Graduation
DESCRIPTION:Grantsville High School Graduation\n\nWednesday\, May 25\, 2011
X-ALT-DESC;FMTTYPE=text/html:Grantsville High School Graduation<br />\nWednesday\, May 25\, 2011
LOCATION:
UID:e.125.3513
SEQUENCE:3
DTSTAMP:20260422T104704Z
URL:https://business.tooelechamber.com/events/details/grantsville-graduation-05-25-2011-3513
END:VEVENT

END:VCALENDAR
