BEGIN:VCALENDAR
VERSION:2.0
PRODID:-//ChamberMaster//Event Calendar 2.0//EN
METHOD:PUBLISH
X-PUBLISHED-TTL:P3D
REFRESH-INTERVAL:P3D
CALSCALE:GREGORIAN
BEGIN:VEVENT
DTSTART:20090904T010000Z
DTEND:20090904T030000Z
X-MICROSOFT-CDO-ALLDAYEVENT:FALSE
SUMMARY:Grantsville Meet the Candidates Night
DESCRIPTION:Grantsville Meet the Candidates NightSeptember 3rd\, 2009Grantsville High Auditorium155 E. Cherry Street\, GrantsvilleOpen to Public
X-ALT-DESC;FMTTYPE=text/html:<div style="text-align: center"><span style="font-size: medium">Grantsville Meet the Candidates Night</span></div><div style="text-align: center"><span style="font-size: medium">September 3rd\, 2009</span></div><div style="text-align: center"><span style="font-size: medium">Grantsville High Auditorium</span></div><div style="text-align: center"><span style="font-size: medium">155 E. Cherry Street\, Grantsville</span></div><div style="text-align: center"><span style="font-size: medium">Open to Public</span></div>
LOCATION:
UID:e.125.2557
SEQUENCE:3
DTSTAMP:20260423T182246Z
URL:https://business.tooelechamber.com/events/details/grantsville-meet-the-candidates-night-09-03-2009-2557
END:VEVENT

END:VCALENDAR
