BEGIN:VCALENDAR
VERSION:2.0
PRODID:-//ChamberMaster//Event Calendar 2.0//EN
METHOD:PUBLISH
X-PUBLISHED-TTL:P3D
REFRESH-INTERVAL:P3D
CALSCALE:GREGORIAN
BEGIN:VEVENT
DTSTART;VALUE=DATE:20110319
DTEND;VALUE=DATE:20110320
TRANSP:TRANSPARENT
X-MICROSOFT-CDO-ALLDAYEVENT:TRUE
SUMMARY:Grantsville Old folks Sociable
DESCRIPTION:Grantsville Old Folks Sociable\n\n	Saturday\, March 19\, 2011
X-ALT-DESC;FMTTYPE=text/html:<p style="text-align: center">\n	<span style="font-size: 22px">Grantsville Old Folks Sociable<br />\n	Saturday\, March 19\, 2011</span></p>\n
LOCATION:
UID:e.125.3508
SEQUENCE:3
DTSTAMP:20260422T140121Z
URL:https://business.tooelechamber.com/events/details/grantsville-old-folks-sociable-03-19-2011-3508
END:VEVENT

END:VCALENDAR
