BEGIN:VCALENDAR
VERSION:2.0
PRODID:-//ChamberMaster//Event Calendar 2.0//EN
METHOD:PUBLISH
X-PUBLISHED-TTL:P3D
REFRESH-INTERVAL:P3D
CALSCALE:GREGORIAN
BEGIN:VEVENT
DTSTART:20090606T200000Z
DTEND:20090607T000000Z
X-MICROSOFT-CDO-ALLDAYEVENT:FALSE
SUMMARY:Grantsville Park Fundraiser
DESCRIPTION:Grantville parkfund raiserjune 6th 20092:00-6:00Grantsville parkCome and have some fun for a great causeAll proceeds go to Grantsville City Parkbounce housesfoodgames
X-ALT-DESC;FMTTYPE=text/html:<div><font face="ARBONNIE" size="7"><font face="ARBONNIE" size="7"><font face="ARBONNIE" size="7"><font face="ARBONNIE" size="6"><font face="ARBONNIE" size="6"><font face="ARBONNIE" size="6"><p align="center">&nbsp\;</p><font size="4"><font face="ARBONNIE" size="7"><font face="ARBONNIE" size="7"><font face="ARBONNIE" size="7"><p align="center"><font color="#000000" size="5"><u>Grantville park</u></font></p><font face="ARBONNIE"><font face="ARBONNIE"><font face="ARBONNIE" color="#000000" size="5"><p align="center"><u>fund raiser</u></p></font></font></font></font></font></font></font><p align="center"><font color="#000000" size="3">june 6th 2009</font></p><font face="ARJULIAN"><font face="ARJULIAN"><font face="ARJULIAN"><p align="center"><font color="#000000" size="3">2:00-6:00</font></p><font face="ARBONNIE"><font face="ARBONNIE"><font face="ARBONNIE" color="#000000" size="3"><p align="center">Grantsville park</p></font></font></font></font></font></font></font></font></font><p align="center"><font color="#000000" size="3">Come and have some fun for a great cause</font></p></font></font></font><font face="ARBONNIE" size="7"><font face="ARBONNIE" size="7"><font face="ARBONNIE" size="7"><p align="center"><font color="#000000" size="3">All proceeds go to Grantsville City Park</font></p><font face="ARBONNIE" size="7"><font face="ARBONNIE" size="7"><font face="ARBONNIE" size="7"><p align="center"><font color="#000000" size="3">bounce houses</font></p><p align="center"><font color="#000000" size="3">food</font></p><p align="center"><font color="#000000" size="3">games</font></p></font></font></font></font></font></font></div>
LOCATION:
UID:e.125.2528
SEQUENCE:3
DTSTAMP:20260423T232407Z
URL:https://business.tooelechamber.com/events/details/grantsville-park-fundraiser-06-06-2009-2528
END:VEVENT

END:VCALENDAR
