BEGIN:VCALENDAR
VERSION:2.0
PRODID:-//ChamberMaster//Event Calendar 2.0//EN
METHOD:PUBLISH
X-PUBLISHED-TTL:P3D
REFRESH-INTERVAL:P3D
CALSCALE:GREGORIAN
BEGIN:VEVENT
DTSTART:20140726T160000Z
DTEND:20140726T230000Z
X-MICROSOFT-CDO-ALLDAYEVENT:FALSE
SUMMARY:Grantsville Volunteer Fire Department Annual Open House Fundraiser
DESCRIPTION:Activities will being approximately at 10:00 Am with water slides\, bounce houses and the AirMed Helicopter. A diner will be served at 4:00 Pm with a Hawaiian pig roast and hot dogs. Please come Support our fire department. All donation are welcome
X-ALT-DESC;FMTTYPE=text/html:Activities will being approximately at 10:00 Am with water slides\, bounce houses and the AirMed&nbsp\;Helicopter. A diner will be served at 4:00 Pm with a Hawaiian pig roast and hot dogs. Please come Support&nbsp\;our fire department. All donation are welcome
LOCATION:
UID:e.125.5356
SEQUENCE:3
DTSTAMP:20260419T163004Z
URL:https://business.tooelechamber.com/events/details/grantsville-volunteer-fire-department-annual-open-house-fundraiser-07-26-2014-5356
END:VEVENT

END:VCALENDAR
