BEGIN:VCALENDAR
VERSION:2.0
PRODID:-//ChamberMaster//Event Calendar 2.0//EN
METHOD:PUBLISH
X-PUBLISHED-TTL:P3D
REFRESH-INTERVAL:P3D
CALSCALE:GREGORIAN
BEGIN:VEVENT
DTSTART:20091024T190000Z
DTEND:20091024T220000Z
X-MICROSOFT-CDO-ALLDAYEVENT:FALSE
SUMMARY:Halloween Carnival
DESCRIPTION:Saturday\, October 24\, 2008 1:00   4:00 p.m.Dow James Complex   350 West 400 North\, TooeleFood Games Fortune Telling Cookie DecoratingHave your Halloween picture taken for $2.00 between 1:00 & 3:00!!!Costume Parade (at 2:30) and MUCH\, MUCH MORE!!!!COST: 1 can of food to be donated to the Tooele Community Action ProgramCome enjoy the fun!!! FOOD AND FUN ARE FREE!!!This is a drug and violence free activity!!!
X-ALT-DESC;FMTTYPE=text/html:<div><font face="TempusSansITC"><p style="text-align: center">Saturday\, October 24\, 2008 1:00 &ndash\; 4:00 p.m.</p><p style="text-align: center">Dow James Complex &ndash\; 350 West 400 North\, Tooele</p><p style="text-align: center">Food Games Fortune Telling Cookie Decorating</p><p style="text-align: center">Have your Halloween picture taken for $2.00 between 1:00 &amp\; 3:00!!!</p><p style="text-align: center">Costume Parade (at 2:30) and MUCH\, MUCH MORE!!!!</p><p style="text-align: center">COST: 1 can of food to be donated to the Tooele Community Action Program</p><p style="text-align: center">Come enjoy the fun!!! FOOD AND FUN ARE FREE!!!</p><p style="text-align: center">This is a drug and violence free activity!!!</p></font></div>
LOCATION:Dow James Complex 350 West 400 North\, Tooele
UID:e.125.2580
SEQUENCE:3
DTSTAMP:20260423T164339Z
URL:https://business.tooelechamber.com/events/details/halloween-carnival-10-24-2009-2580
END:VEVENT

END:VCALENDAR
