BEGIN:VCALENDAR
VERSION:2.0
PRODID:-//ChamberMaster//Event Calendar 2.0//EN
METHOD:PUBLISH
X-PUBLISHED-TTL:P3D
REFRESH-INTERVAL:P3D
CALSCALE:GREGORIAN
BEGIN:VEVENT
DTSTART:20090714T150000Z
DTEND:20090714T160000Z
X-MICROSOFT-CDO-ALLDAYEVENT:FALSE
SUMMARY:Health in the Workplace Forum
DESCRIPTION:"Asthma\, diabetes\, and hypertension alone cost employers $30 billion in the U.S. per year. You're the boss. Save money. Live Longer."\n\nCome learn easy and affordable ways to plan a program for a healthier workplace in your business! Share ideas with other businesses as well and learn what other companies are doing. Forum presented by the Alliance for Cardiovascular Health in Utah. All attendees will receive a free booklet from the Utah Department of Health on "Building a Healthy Worksite."
X-ALT-DESC;FMTTYPE=text/html:"Asthma\, diabetes\, and hypertension alone cost employers $30 billion in the U.S. per year. You're the boss. Save money. Live Longer."\n\nCome learn easy and affordable ways to plan a program for a healthier workplace in your business! Share ideas with other businesses as well and learn what other companies are doing. Forum presented by the Alliance for Cardiovascular Health in Utah. All attendees will receive a free booklet from the Utah Department of Health on "Building a Healthy Worksite." \n\n
LOCATION:Altius Health Plans: 10421 S. Jordan Gateway\, Suite 400 South Jordan\, UT 84095
UID:e.125.2539
SEQUENCE:3
DTSTAMP:20260423T215028Z
URL:https://business.tooelechamber.com/events/details/health-in-the-workplace-forum-07-14-2009-2539
END:VEVENT

END:VCALENDAR
