BEGIN:VCALENDAR
VERSION:2.0
PRODID:-//ChamberMaster//Event Calendar 2.0//EN
METHOD:PUBLISH
X-PUBLISHED-TTL:P3D
REFRESH-INTERVAL:P3D
CALSCALE:GREGORIAN
BEGIN:VEVENT
DTSTART;VALUE=DATE:20080911
DTEND;VALUE=DATE:20080912
TRANSP:TRANSPARENT
X-MICROSOFT-CDO-ALLDAYEVENT:TRUE
SUMMARY:Heroes of speed Parade & Festival Tooele City Veterans Memorial Park
DESCRIPTION:Heroes of speed Parade & Festival Tooele City Veterans Memorial Park 5pm to Dusk.
X-ALT-DESC;FMTTYPE=text/html:<p class="MsoNormal" style="margin: 0in 0in 0pt"><span style="font-size: 12pt"><font face="Times New Roman">Heroes of speed Parade &amp\; Festival Tooele City Veterans Memorial Park 5pm to Dusk.<span style="mso-spacerun: yes">&nbsp\; </span><o:p></o:p></font></span></p><p class="MsoNormal" style="margin: 0in 0in 0pt"><span style="font-size: 12pt"><o:p><font face="Times New Roman">&nbsp\;</font></o:p></span></p>
LOCATION:
UID:e.125.401
SEQUENCE:3
DTSTAMP:20260424T141502Z
URL:https://business.tooelechamber.com/events/details/heroes-of-speed-parade-festival-tooele-city-veterans-memorial-park-09-11-2008-401
END:VEVENT

END:VCALENDAR
