BEGIN:VCALENDAR
VERSION:2.0
PRODID:-//ChamberMaster//Event Calendar 2.0//EN
METHOD:PUBLISH
X-PUBLISHED-TTL:P3D
REFRESH-INTERVAL:P3D
CALSCALE:GREGORIAN
BEGIN:VEVENT
DTSTART:20140430T180000Z
DTEND:20140430T190000Z
X-MICROSOFT-CDO-ALLDAYEVENT:FALSE
SUMMARY:Hoffman Arthritis Institute Luncheon
DESCRIPTION:Luncheon
X-ALT-DESC;FMTTYPE=text/html:Luncheon
LOCATION:Chamber Office 154 South Main Street\, Tooele UT 84074
UID:e.125.5076
SEQUENCE:3
DTSTAMP:20260419T221237Z
URL:https://business.tooelechamber.com/events/details/hoffman-arthritis-institute-luncheon-04-30-2014-5076
END:VEVENT

END:VCALENDAR
