BEGIN:VCALENDAR
VERSION:2.0
PRODID:-//ChamberMaster//Event Calendar 2.0//EN
METHOD:PUBLISH
X-PUBLISHED-TTL:P3D
REFRESH-INTERVAL:P3D
CALSCALE:GREGORIAN
BEGIN:VEVENT
DTSTART;VALUE=DATE:20080411
DTEND;VALUE=DATE:20080414
TRANSP:TRANSPARENT
X-MICROSOFT-CDO-ALLDAYEVENT:TRUE
SUMMARY:Honda Presents the Plaza Cycle Masters of the Mountains Round 1
DESCRIPTION:The Plaza Cycle Masters of the Mountains Round 1
X-ALT-DESC;FMTTYPE=text/html:<p>The Plaza Cycle Masters of the Mountains Round 1</p>
LOCATION:Miller Motorsports Park2901 N Sheep LaneTooele
UID:e.125.242
SEQUENCE:3
DTSTAMP:20260424T221447Z
URL:https://business.tooelechamber.com/events/details/honda-presents-the-plaza-cycle-masters-of-the-mountains-round-1-04-11-2008-242
END:VEVENT

END:VCALENDAR
