BEGIN:VCALENDAR
VERSION:2.0
PRODID:-//ChamberMaster//Event Calendar 2.0//EN
METHOD:PUBLISH
X-PUBLISHED-TTL:P3D
REFRESH-INTERVAL:P3D
CALSCALE:GREGORIAN
BEGIN:VEVENT
DTSTART:20080416T000000Z
DTEND:20080416T030000Z
X-MICROSOFT-CDO-ALLDAYEVENT:FALSE
SUMMARY:IDA (Individual Development Account) Financial Education Class
DESCRIPTION:Utah State University Extension Service is offering IDA financial management classes. Multiply your saving efforts! For every $1 you save\, another $3 is matched through Individual Development Accounts (IDA). Start saving today for high-return investments such as post-secondary or vocational education\, home ownership or a small business! In order to qualify for the program\, you must be income eligible. A family of 4 can have an income of $42\,400. To check income eligibility\, go to www.uidan.org or call 277-2406. Participants must attend three financial education classes. They will be held  RSVP by Monday\, April 14th to USU Extension at 435-277-2400.
X-ALT-DESC;FMTTYPE=text/html:Utah State University Extension Service is offering IDA financial management classes. Multiply your saving efforts! For every $1 you save\, another $3 is matched through Individual Development Accounts (IDA). Start saving today for high-return investments such as post-secondary or vocational education\, home ownership or a small business! In order to qualify for the program\, you must be income eligible. A family of 4 can have an income of $42\,400. To check income eligibility\, go to www.uidan.org or call 277-2406. Participants must attend three financial education classes. They will be held  RSVP by Monday\, April 14th to USU Extension at 435-277-2400. \n
LOCATION:151 N. Main (Health & Extension Bldg).
UID:e.125.261
SEQUENCE:3
DTSTAMP:20260424T232313Z
URL:https://business.tooelechamber.com/events/details/ida-individual-development-account-financial-education-class-04-15-2008-261
END:VEVENT

END:VCALENDAR
