BEGIN:VCALENDAR
VERSION:2.0
PRODID:-//ChamberMaster//Event Calendar 2.0//EN
METHOD:PUBLISH
X-PUBLISHED-TTL:P3D
REFRESH-INTERVAL:P3D
CALSCALE:GREGORIAN
BEGIN:VEVENT
DTSTART:20120621T180000Z
DTEND:20120621T183000Z
X-MICROSOFT-CDO-ALLDAYEVENT:FALSE
SUMMARY:Joyful Events Ribbon Cutting
DESCRIPTION:Ribbon Cutting for Joyful Events.\n\n	\n\n	June 21\,2012\n\n	Chamber Office 154 South Main Street\, @Noon.
X-ALT-DESC;FMTTYPE=text/html:<p>\n	<span style="font-size: 20px"><strong><u>Ribbon Cutting for Joyful Events.</u><br />\n	<br />\n	June 21\,2012<br />\n	Chamber Office 154 South Main Street\, @Noon.</strong></span><br />\n	<br />\n	<br />\n	&nbsp\;</p>\n
LOCATION:
UID:e.125.4862
SEQUENCE:3
DTSTAMP:20260421T141248Z
URL:https://business.tooelechamber.com/events/details/joyful-events-ribbon-cutting-06-21-2012-4862
END:VEVENT

END:VCALENDAR
