BEGIN:VCALENDAR
VERSION:2.0
PRODID:-//ChamberMaster//Event Calendar 2.0//EN
METHOD:PUBLISH
X-PUBLISHED-TTL:P3D
REFRESH-INTERVAL:P3D
CALSCALE:GREGORIAN
BEGIN:VEVENT
DTSTART;VALUE=DATE:20080618
DTEND;VALUE=DATE:20080619
TRANSP:TRANSPARENT
X-MICROSOFT-CDO-ALLDAYEVENT:TRUE
SUMMARY:June Ribbon Cutting
DESCRIPTION:Metro National TitleWednesday\, June 18th11 am1212 No. Main\, Tooele
X-ALT-DESC;FMTTYPE=text/html:<div>Metro National Title</div><div>Wednesday\, June 18th</div><div>11 am</div><div>1212 No. Main\, Tooele</div>
LOCATION:1212 No. Main\, Tooele
UID:e.125.439
SEQUENCE:3
DTSTAMP:20260424T201833Z
URL:https://business.tooelechamber.com/events/details/june-ribbon-cutting-06-18-2008-439
END:VEVENT

END:VCALENDAR
