BEGIN:VCALENDAR
VERSION:2.0
PRODID:-//ChamberMaster//Event Calendar 2.0//EN
METHOD:PUBLISH
X-PUBLISHED-TTL:P3D
REFRESH-INTERVAL:P3D
CALSCALE:GREGORIAN
BEGIN:VEVENT
DTSTART:20131206T233000Z
DTEND:20131207T010000Z
X-MICROSOFT-CDO-ALLDAYEVENT:FALSE
SUMMARY:Justice Court
DESCRIPTION:
X-ALT-DESC;FMTTYPE=text/html:
LOCATION:Town Hall
UID:e.125.5704
SEQUENCE:3
DTSTAMP:20260420T055851Z
URL:https://business.tooelechamber.com/events/details/justice-court-12-06-2013-5704
END:VEVENT

END:VCALENDAR
