BEGIN:VCALENDAR
VERSION:2.0
PRODID:-//ChamberMaster//Event Calendar 2.0//EN
METHOD:PUBLISH
X-PUBLISHED-TTL:P3D
REFRESH-INTERVAL:P3D
CALSCALE:GREGORIAN
BEGIN:VEVENT
DTSTART:20090602T180000Z
DTEND:20090602T190000Z
X-MICROSOFT-CDO-ALLDAYEVENT:FALSE
SUMMARY:Kiwanis Meeting
DESCRIPTION:Kiwanis meets every Tuesday at noon for a luncheon at Tracks\, 1641 N. Main St.\, Tooele. Contact Debbie Winn at 224-2046 or Sandy Critchlow at 830-6657 to become a member. Kiwanis is dedicated to help the children.
X-ALT-DESC;FMTTYPE=text/html:<p align="center"><font size="4">Kiwanis meets every Tuesday at noon for a luncheon at Tracks\, 1641 N. Main St.\, Tooele. Contact Debbie Winn at 224-2046 or Sandy Critchlow at 830-6657 to become a member. </font></p><p align="center"><font size="4">Kiwanis is dedicated to help the children.</font></p>
LOCATION:
UID:e.125.2527
SEQUENCE:3
DTSTAMP:20260423T232104Z
URL:https://business.tooelechamber.com/events/details/kiwanis-meeting-06-02-2009-2527
END:VEVENT

END:VCALENDAR
