BEGIN:VCALENDAR
VERSION:2.0
PRODID:-//ChamberMaster//Event Calendar 2.0//EN
METHOD:PUBLISH
X-PUBLISHED-TTL:P3D
REFRESH-INTERVAL:P3D
CALSCALE:GREGORIAN
BEGIN:VEVENT
DTSTART;VALUE=DATE:20120614
DTEND;VALUE=DATE:20120617
TRANSP:TRANSPARENT
X-MICROSOFT-CDO-ALLDAYEVENT:TRUE
SUMMARY:LaForge Encore Thratre Company
DESCRIPTION:LaForge Encore Theater Company Presents\n\n\n\n"Joseph and the Amazing Technicolor Dreamcoat".\n\n\n\nAt Tooele High School Auditorium.
X-ALT-DESC;FMTTYPE=text/html:<span style="font-size: 20px"><strong><u>LaForge Encore Theater Company Presents<br />\n<br />\n</u>&quot\;Joseph and the Amazing Technicolor Dreamcoat&quot\;.<br />\n<br />\nAt Tooele High School Auditorium.</strong></span>
LOCATION:
UID:e.125.4855
SEQUENCE:3
DTSTAMP:20260421T140936Z
URL:https://business.tooelechamber.com/events/details/laforge-encore-thratre-company-06-14-2012-4855
END:VEVENT

END:VCALENDAR
