BEGIN:VCALENDAR
VERSION:2.0
PRODID:-//ChamberMaster//Event Calendar 2.0//EN
METHOD:PUBLISH
X-PUBLISHED-TTL:P3D
REFRESH-INTERVAL:P3D
CALSCALE:GREGORIAN
BEGIN:VEVENT
DTSTART;VALUE=DATE:20140804
DTEND;VALUE=DATE:20140811
TRANSP:TRANSPARENT
X-MICROSOFT-CDO-ALLDAYEVENT:TRUE
SUMMARY:Larry H Miller Tour of Utah
DESCRIPTION:Tooele would like to welcome LHM's Tour of Utah.\n\nTooele will be Stage 3 of this week long cycle race.\n\nThis stage will be from Lehi to Miller Motor Sports Park. \n\nTotal Distance for this stage of the race is 118.3 Miles/ 190.3 km\n\nElevation Gain 3\,953 FT/ 1\,205 M\n\nApprox. 5 hours long
X-ALT-DESC;FMTTYPE=text/html:Tooele would like to welcome LHM&#39\;s Tour of Utah.<br />\nTooele will be Stage 3 of this week long cycle race.<br />\nThis stage will be from Lehi to Miller Motor Sports Park.&nbsp\;<br />\nTotal Distance for this stage of the race is 118.3 Miles/ 190.3 km<br />\nElevation&nbsp\;Gain 3\,953 FT/ 1\,205 M<br />\nApprox. 5 hours long
LOCATION:Lehi to MMP 2901 Sheep Lane\, Tooele\, UT 84074 Places to watch: Ski Utah KOM in Eureka\, a mining ghost town Utah Sports Commission sprint line in Saratoga Springs and Tooele.
UID:e.125.5379
SEQUENCE:3
DTSTAMP:20260419T163034Z
URL:https://business.tooelechamber.com/events/details/larry-h-miller-tour-of-utah-08-04-2014-5379
END:VEVENT

END:VCALENDAR
