BEGIN:VCALENDAR
VERSION:2.0
PRODID:-//ChamberMaster//Event Calendar 2.0//EN
METHOD:PUBLISH
X-PUBLISHED-TTL:P3D
REFRESH-INTERVAL:P3D
CALSCALE:GREGORIAN
BEGIN:VEVENT
DTSTART:20120223T010000Z
DTEND:20120223T010000Z
X-MICROSOFT-CDO-ALLDAYEVENT:FALSE
SUMMARY:Legislative Caucus
DESCRIPTION:The monthly legislative caucus\n\n	is set for \n\n	Wednesday\, February 22nd  at 6:00 p.m.  \n\n	at the\n\n	State Capital\n\n	\n\n	The room number has not yet been assigned.  \n\n	I will notify you as soon as the room number is available.
X-ALT-DESC;FMTTYPE=text/html:<p style="text-align: center">\n	<span style="font-size: 22px"><span style="font-family: arial\, sans-serif">The monthly<strong> legislative caucus</strong><br />\n	<span style="font-size: 18px">is set for </span><br />\n	Wednesday\, February 22nd &nbsp\;at 6:00 p.m. &nbsp\;<br />\n	<span style="font-size: 18px">at the</span><br />\n	State Capital<br />\n	<br />\n	<span style="font-size: 18px">The room number has not yet been assigned.&nbsp\;&nbsp\;</span></span></span><br />\n	<span style="font-size: 18px"><span style="font-family: arial\, sans-serif">I will notify you as soon as the room number is available.&nbsp\;</span></span><br />\n	<br />\n	&nbsp\;</p>\n
LOCATION:
UID:e.125.4790
SEQUENCE:3
DTSTAMP:20260421T203019Z
URL:https://business.tooelechamber.com/events/details/legislative-caucus-02-22-2012-4790
END:VEVENT

END:VCALENDAR
