BEGIN:VCALENDAR
VERSION:2.0
PRODID:-//ChamberMaster//Event Calendar 2.0//EN
METHOD:PUBLISH
X-PUBLISHED-TTL:P3D
REFRESH-INTERVAL:P3D
CALSCALE:GREGORIAN
BEGIN:VEVENT
DTSTART;VALUE=DATE:20100814
DTEND;VALUE=DATE:20100815
TRANSP:TRANSPARENT
X-MICROSOFT-CDO-ALLDAYEVENT:TRUE
SUMMARY:Logan Bateman & A.L.L. Golf Tournament
DESCRIPTION:Logan Bateman & A.L.L.Golf Tournament FundraiserLogan was diagnosed with Acute Lymphomatic LeukemiaAugust 14\, 2010 @ Oqurrh Hills Golf Course 1255 East Vine Street\, Tooele Hole Sponsorships are available $7 BBQ Lunch 18 Holes of Golf ($50 lunch and cart included)Raffle for Great NEW donated items $2 and $4 ticketsFor more information contact: Ty Bateman (435)849-2548tybateman@live.com
X-ALT-DESC;FMTTYPE=text/html:<div style="text-align: center"><strong><u><span style="font-size: medium">Logan Bateman &amp\;&nbsp\;A.L.L.</span></u></strong></div><div style="text-align: center"><strong><u><span style="font-size: medium">Golf Tournament Fundraiser</span></u></strong></div><div style="text-align: center"><span style="font-size: medium">Logan was diagnosed with Acute Lymphomatic Leukemia</span></div><div style="text-align: center"><span style="font-size: medium">August 14\, 2010 @ Oqurrh Hills Golf Course </span></div><div style="text-align: center"><span style="font-size: medium">1255 East Vine Street\, Tooele </span></div><ul><li><span style="font-size: medium">Hole Sponsorships are available </span></li><li><span style="font-size: medium">$7 BBQ Lunch </span></li><li><span style="font-size: medium">18 Holes of Golf </span><span style="font-size: medium">($50 lunch and cart included)</span></li><li><span style="font-size: medium">Raffle </span><span style="font-size: medium">for Great NEW donated items $2 and $4 tickets</span></li></ul><div style="text-align: center"><span style="font-size: medium">For more information contact: </span></div><div style="text-align: center"><span style="font-size: medium">Ty Bateman </span></div><div style="text-align: center"><span style="font-size: medium">(435)849-2548</span></div><div style="text-align: center"><a href="mailto:tybateman@live.com"><span style="font-size: medium">tybateman@live.com</span></a></div><div>&nbsp\;</div>
LOCATION:
UID:e.125.3211
SEQUENCE:3
DTSTAMP:20260423T013914Z
URL:https://business.tooelechamber.com/events/details/logan-bateman-a-l-l-golf-tournament-08-14-2010-3211
END:VEVENT

END:VCALENDAR
