BEGIN:VCALENDAR
VERSION:2.0
PRODID:-//ChamberMaster//Event Calendar 2.0//EN
METHOD:PUBLISH
X-PUBLISHED-TTL:P3D
REFRESH-INTERVAL:P3D
CALSCALE:GREGORIAN
BEGIN:VEVENT
DTSTART:20110702T010000Z
DTEND:20110702T030000Z
X-MICROSOFT-CDO-ALLDAYEVENT:FALSE
SUMMARY:Lokalgrown
DESCRIPTION:Fridays on Vine Concert Featuring: \n\n	 \n\n	Lokalgrown\n\n	Friday\, July 1\, 2011 @ 7pm \n\n	 \n\n	Tooele City Park\n\n	200 West Vine Street\, Tooele \n\n	 \nBring your blanket or chair and enjoy the show!!
X-ALT-DESC;FMTTYPE=text/html:<p style="text-align: center">\n	<span style="font-size: 26px">Fridays on Vine Concert Featuring: </span><br />\n	&nbsp\;</p>\n<p style="text-align: center">\n	<span style="font-size: 26px">Lokalgrown<br />\n	Friday\, July 1\, 2011 @ 7pm </span><br />\n	&nbsp\;</p>\n<p style="text-align: center">\n	<span style="font-size: 26px">Tooele City Park<br />\n	200 West Vine Street\, Tooele </span><br />\n	&nbsp\;</p>\n<span style="font-size: 26px">Bring your blanket or chair and enjoy the show!!</span><br />\n
LOCATION:
UID:e.125.3711
SEQUENCE:3
DTSTAMP:20260422T073744Z
URL:https://business.tooelechamber.com/events/details/lokalgrown-07-01-2011-3711
END:VEVENT

END:VCALENDAR
