BEGIN:VCALENDAR
VERSION:2.0
PRODID:-//ChamberMaster//Event Calendar 2.0//EN
METHOD:PUBLISH
X-PUBLISHED-TTL:P3D
REFRESH-INTERVAL:P3D
CALSCALE:GREGORIAN
BEGIN:VEVENT
DTSTART:20130216T150000Z
DTEND:20130216T223000Z
X-MICROSOFT-CDO-ALLDAYEVENT:FALSE
SUMMARY:Love and Respect Conference
DESCRIPTION:The Love & Respect Conference is coming to Deseret Peak Complex February 15th and 16th. 2013. Register @ watersedgeutah.com\n\n	\n\n	A $25 fee person for the comprehensive workbook\, five video sessions\, relaxing dinner on Friday and light breakfast on Saturday\, is due at the conference.  There will also be an extended lunch break on Saturday to process the information at a local restaurant of choice at each participant's own expense.\n\n	\n\n	Click here to edit...
X-ALT-DESC;FMTTYPE=text/html:<div style="color: gray">\n	<span style="color: #800080"><span hasbox="2" style="font-size: 14px"><span hasbox="2">The Love &amp\; Respect Conference is coming to Deseret Peak Complex February 15th and 16th. 2013. Register @ <a href="http://www.watersedgeutah.com/">watersedgeutah.com</a><br />\n	<br />\n	A $25 fee person for the comprehensive workbook\, five video sessions\, relaxing dinner on Friday and light breakfast on Saturday\, is due at the conference. &nbsp\;There will also be an extended lunch break on Saturday to process the information at a local restaurant of choice at each participant&#39\;s own expense.</span></span></span><br />\n	<br />\n	Click here to edit...</div>\n
LOCATION:
UID:e.125.4990
SEQUENCE:3
DTSTAMP:20260420T235516Z
URL:https://business.tooelechamber.com/events/details/love-and-respect-conference-02-16-2013-4990
END:VEVENT

END:VCALENDAR
