BEGIN:VCALENDAR
VERSION:2.0
PRODID:-//ChamberMaster//Event Calendar 2.0//EN
METHOD:PUBLISH
X-PUBLISHED-TTL:P3D
REFRESH-INTERVAL:P3D
CALSCALE:GREGORIAN
BEGIN:VEVENT
DTSTART:20130508T180000Z
DTEND:20130508T190000Z
X-MICROSOFT-CDO-ALLDAYEVENT:FALSE
SUMMARY:Luncheon
DESCRIPTION:Chamber Luncheon\n\n	Wednesday\, May 8th\, 2013\n\n	12 Noon\n\n	Stansbury High School\n\n	154 South Main Street\n\n	Please RSVP by May 6th\, 2013\n\n	Staff@tooelechamber.com or 435-882-0690\n\n	Click here to edit...
X-ALT-DESC;FMTTYPE=text/html:<div style="color: gray">\n	<strong><u><span style="font-size: 11pt"><span style="font-family: times new roman">Chamber Luncheon</span></span></u></strong><br />\n	<span style="font-size: 11pt"><span style="font-family: times new roman">Wednesday\, May 8<sup>th</sup>\, 2013</span></span><br />\n	<span style="font-size: 11pt"><span style="font-family: times new roman">12 Noon</span></span><br />\n	<span style="font-size: 11pt"><span style="font-family: times new roman">Stansbury High School</span></span><br />\n	<span style="font-size: 11pt"><span style="font-family: times new roman">154 South Main Street</span></span><br />\n	<span style="font-size: 11pt"><span style="font-family: times new roman">Please RSVP by May 6<sup>th</sup>\, 2013</span></span><br />\n	<span style="font-size: 11pt"><a href="mailto:Staff@tooelechamber.com"><span style="font-family: times new roman">Staff@tooelechamber.com</span></a></span><span style="font-family: times new roman"> or 435-882-0690</span><br />\n	Click here to edit...</div>\n
LOCATION:
UID:e.125.4979
SEQUENCE:3
DTSTAMP:20260420T181310Z
URL:https://business.tooelechamber.com/events/details/luncheon-05-08-2013-4979
END:VEVENT

END:VCALENDAR
