BEGIN:VCALENDAR
VERSION:2.0
PRODID:-//ChamberMaster//Event Calendar 2.0//EN
METHOD:PUBLISH
X-PUBLISHED-TTL:P3D
REFRESH-INTERVAL:P3D
CALSCALE:GREGORIAN
BEGIN:VEVENT
DTSTART:20140618T180000Z
DTEND:20140618T190000Z
X-MICROSOFT-CDO-ALLDAYEVENT:FALSE
SUMMARY:Luncheon Hosted By Energy Solutions
DESCRIPTION:FREE Luncheon Hosted by Energy Solutions
X-ALT-DESC;FMTTYPE=text/html:FREE Luncheon Hosted by Energy Solutions
LOCATION:Tooele Applied Technology College 88 South Tooele Blvd Tooele\, UT 84074
UID:e.125.5100
SEQUENCE:3
DTSTAMP:20260419T181445Z
URL:https://business.tooelechamber.com/events/details/luncheon-hosted-by-energy-solutions-06-18-2014-5100
END:VEVENT

END:VCALENDAR
