BEGIN:VCALENDAR
VERSION:2.0
PRODID:-//ChamberMaster//Event Calendar 2.0//EN
METHOD:PUBLISH
X-PUBLISHED-TTL:P3D
REFRESH-INTERVAL:P3D
CALSCALE:GREGORIAN
BEGIN:VEVENT
DTSTART:20140625T180000Z
DTEND:20140625T190000Z
X-MICROSOFT-CDO-ALLDAYEVENT:FALSE
SUMMARY:Luncheon Hosted By Live Fit Tooele County
DESCRIPTION:Please RSVP by Monday\, June 23rd\, 2014 to\n\ncody@tooelechamber.com\n\nor\n\n(435) 882-0690\n\nTHIS IS A FREE LUNCHEON\n\nLunch Donated by Stockton Miner's Cafe
X-ALT-DESC;FMTTYPE=text/html:<p align="center" style="margin-bottom: 1.3em\; font-family: Georgia\, 'Times New Roman'\, 'Bitstream Charter'\, Times\, serif\; font-size: 14px\; line-height: 21px\;">&nbsp\;</p>\n\n<p align="center" style="margin-bottom: 1.3em\; font-family: Georgia\, 'Times New Roman'\, 'Bitstream Charter'\, Times\, serif\; font-size: 14px\; line-height: 21px\;">Please RSVP by Monday\, June 23rd\, 2014 to</p>\n\n<p align="center" style="margin-bottom: 1.3em\; font-family: Georgia\, 'Times New Roman'\, 'Bitstream Charter'\, Times\, serif\; font-size: 14px\; line-height: 21px\;">cody@tooelechamber.com</p>\n\n<p align="center" style="margin-bottom: 1.3em\; font-family: Georgia\, 'Times New Roman'\, 'Bitstream Charter'\, Times\, serif\; font-size: 14px\; line-height: 21px\;">or</p>\n\n<p align="center" style="margin-bottom: 1.3em\; font-family: Georgia\, 'Times New Roman'\, 'Bitstream Charter'\, Times\, serif\; font-size: 14px\; line-height: 21px\;">(435) 882-0690</p>\n\n<p align="center" style="margin-bottom: 1.3em\; font-family: Georgia\, 'Times New Roman'\, 'Bitstream Charter'\, Times\, serif\; font-size: 14px\; line-height: 21px\;">THIS IS A FREE LUNCHEON</p>\n\n<p align="center" style="margin-bottom: 1.3em\; font-family: Georgia\, 'Times New Roman'\, 'Bitstream Charter'\, Times\, serif\; font-size: 14px\; line-height: 21px\;">Lunch Donated by Stockton Miner&#39\;s Cafe</p>\n
LOCATION:154 South Main Street Tooele\, UT 84074
UID:e.125.5341
SEQUENCE:3
DTSTAMP:20260419T181938Z
URL:https://business.tooelechamber.com/events/details/luncheon-hosted-by-live-fit-tooele-county-06-25-2014-5341
END:VEVENT

END:VCALENDAR
