BEGIN:VCALENDAR
VERSION:2.0
PRODID:-//ChamberMaster//Event Calendar 2.0//EN
METHOD:PUBLISH
X-PUBLISHED-TTL:P3D
REFRESH-INTERVAL:P3D
CALSCALE:GREGORIAN
BEGIN:VEVENT
DTSTART:20130814T180000Z
DTEND:20130814T190000Z
X-MICROSOFT-CDO-ALLDAYEVENT:FALSE
SUMMARY:Luncheon-MWMC
DESCRIPTION:
X-ALT-DESC;FMTTYPE=text/html:
LOCATION:
UID:e.125.5001
SEQUENCE:3
DTSTAMP:20260420T132209Z
URL:https://business.tooelechamber.com/events/details/luncheon-mwmc-08-14-2013-5001
END:VEVENT

END:VCALENDAR
