BEGIN:VCALENDAR
VERSION:2.0
PRODID:-//ChamberMaster//Event Calendar 2.0//EN
METHOD:PUBLISH
X-PUBLISHED-TTL:P3D
REFRESH-INTERVAL:P3D
CALSCALE:GREGORIAN
BEGIN:VEVENT
DTSTART;VALUE=DATE:20130925
DTEND;VALUE=DATE:20130926
TRANSP:TRANSPARENT
X-MICROSOFT-CDO-ALLDAYEVENT:TRUE
SUMMARY:Luncheon-Tooele City
DESCRIPTION:Wednesday\, Sept 25th\, 2013\n\n	Tooele City\n\n	154 South Main Street\, Tooele\n\n	Chamber Building\n\n	Please RSVP by Monday\, Sept 23rd\, 2013 to staff@tooelechamber.com\n\n	or 435-882-0690\n\n	$10 for Members and $15 for non-members
X-ALT-DESC;FMTTYPE=text/html:<div style="color: gray">\n	<span style="font-size: 14px"><span style="language: en-US"><span style="color: black"><span style="font-family: lucida sans unicode">Wednesday</span></span></span><span style="language: en-US"><span style="color: black"><span style="font-family: lucida sans unicode">\, Sept 25th\, 2013</span></span></span><br />\n	<span style="language: en-US"><span style="color: black"><span style="font-family: lucida sans unicode">Tooele City<br />\n	154 South Main Street\, Tooele</span></span></span><br />\n	<span style="language: en-US"><span style="color: black"><span style="font-family: lucida sans unicode">Chamber Building</span></span></span><br />\n	<span style="language: en-US"><span style="color: black"><span style="font-family: lucida sans unicode">Please RSVP by Monday\, Sept 23rd\, 2013 to </span></span></span><span style="language: en-US"><span style="color: #0000cc"><span style="font-family: lucida sans unicode"><a href="mailto:staff@tooelechamber.com">staff@tooelechamber.com</a></span></span></span><br />\n	<span style="language: en-US"><span style="color: black"><span style="font-family: lucida sans unicode">or 435-882-0690</span></span></span><br />\n	<span style="language: en-US"><span style="color: black"><span style="font-family: lucida sans unicode">$10 for Members and $15 for non-members</span></span></span></span><br />\n	&nbsp\;</div>\n
LOCATION:
UID:e.125.5006
SEQUENCE:3
DTSTAMP:20260420T114701Z
URL:https://business.tooelechamber.com/events/details/luncheon-tooele-city-09-25-2013-5006
END:VEVENT

END:VCALENDAR
