BEGIN:VCALENDAR
VERSION:2.0
PRODID:-//ChamberMaster//Event Calendar 2.0//EN
METHOD:PUBLISH
X-PUBLISHED-TTL:P3D
REFRESH-INTERVAL:P3D
CALSCALE:GREGORIAN
BEGIN:VEVENT
DTSTART:20130327T180000Z
DTEND:20130327T190000Z
X-MICROSOFT-CDO-ALLDAYEVENT:FALSE
SUMMARY:Luncheon-Tooele Co. School District-Education Foundation & First Tee @ Chamber
DESCRIPTION:Luncheon\n\nWednesday\, March 27th\, 2013 11:30 am for social hour and door prizes \n\nHosted by :The 1st Tee Program Tooele/ Education Foundation\n\nA partnership between The Tooele County Educations foundations and Tooele City's Oquirrh Hill Golf COurse\n\n154 South Main Street\n\nPlease RSVP by Monday\, March 25th by 5:00pm\n\nstaff@tooelechamber.com or 435-885-0690
X-ALT-DESC;FMTTYPE=text/html:<span style="color: #000000">Luncheon<br />\nWednesday\, March 27th\, <span style="font-size: 12px">2013 <span style="font-family: arial\, sans-serif">11:30 am for social hour and door prizes</span></span>&nbsp\;<br />\nHosted by :The 1st Tee Program Tooele/ Education Foundation<br />\nA partnership between The Tooele County Educations foundations and Tooele City&#39\;s Oquirrh Hill Golf COurse<br />\n154 South Main Street<br />\nPlease RSVP by Monday\, March 25th&nbsp\;by&nbsp\;5:00pm<br />\nstaff@tooelechamber.com or 435-885-0690</span><br />\n
LOCATION:
UID:e.125.4970
SEQUENCE:3
DTSTAMP:20260421T001347Z
URL:https://business.tooelechamber.com/events/details/luncheon-tooele-co-school-district-education-foundation-first-tee-chamber-03-27-2013-4970
END:VEVENT

END:VCALENDAR
