BEGIN:VCALENDAR
VERSION:2.0
PRODID:-//ChamberMaster//Event Calendar 2.0//EN
METHOD:PUBLISH
X-PUBLISHED-TTL:P3D
REFRESH-INTERVAL:P3D
CALSCALE:GREGORIAN
BEGIN:VEVENT
DTSTART:20120315T140000Z
DTEND:20120315T150000Z
X-MICROSOFT-CDO-ALLDAYEVENT:FALSE
SUMMARY:Making the Most of your Chamber Membership
DESCRIPTION:Making the Most of your Chamber membership!\n\n\n\nLearn how to use your Chamber membership to promote your business!
X-ALT-DESC;FMTTYPE=text/html:<span style="font-size: 20px"><strong>Making the Most of your Chamber membership!</strong></span><br />\n<br />\n<span style="font-size: 20px">Learn how to use your Chamber membership to promote your business!</span>
LOCATION:
UID:e.125.4812
SEQUENCE:3
DTSTAMP:20260421T191947Z
URL:https://business.tooelechamber.com/events/details/making-the-most-of-your-chamber-membership-03-15-2012-4812
END:VEVENT

END:VCALENDAR
